BEGIN:VCALENDAR
VERSION:2.0
PRODID:-//eventon.com NONSGML v1.0//EN
BEGIN:VEVENT
UID:69e796aa69007
DTSTAMP:20260421T172426
DTSTART:20191204T083000Z
DTEND:20191204T103000Z
TZID:UTC
LOCATION:Zentrum Digitalisierung Landkreis Böblingen Danziger Straße 6\,  71034 Böblingen
SUMMARY:ZD.BB Digitalfrühstück
DESCRIPTION: Implusvortrag von Andreas Weeber: Die Evolution der Digitalisierung am Beispiel der Weeber Gruppe. Daniel Schawo von der STAR Cooperation\,  einem Kooperationspartner des ZD.BB\,  verdeutlicht darüber hinaus in seinem Vortrag\,  wie die Digitalisierung der Sales- und After-Sales Bereiche im Autohandel gelingt\,  auf was geachtet werden muss und welche konkreten Unterstützungsmöglichkeiten bestehen.\nhttps://zd-bb.de/events/zd-bb-digitalfruehstueck/
URL:https://zd-bb.de/events/zd-bb-digitalfruehstueck/
END:VEVENT
END:VCALENDAR