BEGIN:VCALENDAR
VERSION:2.0
PRODID:-//eventon.com NONSGML v1.0//EN
BEGIN:VEVENT
UID:69e7b94946d84
DTSTAMP:20260421T195209
DTSTART:20200212T083000Z
DTEND:20200212T103000Z
TZID:UTC
LOCATION:Zentrum Digitalisierung Landkreis Böblingen Danziger Straße 6\,  71034 Böblingen
SUMMARY:ZD.BB Digitalfrühstück
DESCRIPTION: Die Nutzung von Social Media wächst in der Bevölkerung rasant. Mitnichten sind dabei nur jüngere Menschen im Social Web unterwegs\,  auch 55% der Internutzer in der Generation 50plus sind derzeit in sozialen Netzwerken aktiv. Neben der Organisation des Privatlebens dienen die sozialen Kanäle mittlerweile auch zur Interaktion mit Unternehmen und[..]\nhttps://zd-bb.de/events/zd-bb-digitalfruehstueck-20200212/
URL:https://zd-bb.de/events/zd-bb-digitalfruehstueck-20200212/
END:VEVENT
END:VCALENDAR