BEGIN:VCALENDAR
VERSION:2.0
PRODID:-//eventon.com NONSGML v1.0//EN
BEGIN:VEVENT
UID:69e76bf17b77d
DTSTAMP:20260421T142209
DTSTART:20200331T083000Z
DTEND:20200331T103000Z
TZID:UTC
LOCATION:Zentrum Digitalisierung Landkreis Böblingen Danziger Straße 6\,  71034 Böblingen
SUMMARY:ZD.BB Digitalfrühstück
DESCRIPTION: Der Einfluss der Digitalisierung im Handwerk nimmt rasant zu und verändert dieses nachhaltig. Produkte und Dienstleistungen müssen für die digitalen Gewohnheiten und Wünsche von morgen weiterentwickelt werden – dies betrifft Kunden wie auch Mitarbeiter. Auch das Bäckereihandwerk ist hier im Wandel. Wie eine Verknüpfung von Digitalisierung und traditioneller Handwerkskunst funktionieren[..]\nhttps://zd-bb.de/events/zd-bb-digitalfruehstueck-31032020/
URL:https://zd-bb.de/events/zd-bb-digitalfruehstueck-31032020/
END:VEVENT
END:VCALENDAR