BEGIN:VCALENDAR
VERSION:2.0
PRODID:-//eventon.com NONSGML v1.0//EN
BEGIN:VEVENT
UID:69e8890d5560d
DTSTAMP:20260422T103837
DTSTART:20210723T050000Z
DTEND:20210723T063000Z
TZID:Pacific/Midway
LOCATION:Mediathek Renningen Jahnstraße 11 71272 Renningen
SUMMARY:Pop-up Labor Renningen: Als lokales Unternehmen in Google gefunden werden und neue Kunden in der Region gewinnen!
DESCRIPTION: Online Sichtbarkeit für Einzelhandels- und Gastronomieunternehmen „80 % der befragten Internetnutzer in Deutschland haben in der vergangenen Woche Produkte online recherchiert\,  bevor sie ein Ladengeschäft besucht haben.“ Das ist ein Satz aus einer globalen Google Studie schon von 2019. Das bedeutet die meisten potenziellen Käufer suchen nach Dienstleistungen oder Produkten[..]\nhttps://zd-bb.de/events/als-lokales-unternehmen-in-google-gefunden-werden-und-neue-kunden-in-der-region-gewinnen/
URL:https://zd-bb.de/events/als-lokales-unternehmen-in-google-gefunden-werden-und-neue-kunden-in-der-region-gewinnen/
END:VEVENT
END:VCALENDAR