BEGIN:VCALENDAR
VERSION:2.0
PRODID:-//eventon.com NONSGML v1.0//EN
BEGIN:VEVENT
UID:69eb4bc4e5670
DTSTAMP:20260424T125356
DTSTART:20230208T150000Z
DTEND:20230208T160000Z
TZID:Europe/Berlin
LOCATION:Online 
SUMMARY:5G Mobilfunk einfach erklärt - Neue Chancen für kleine und mittlere Unternehmen\,  auch in der Landwirtschaft
DESCRIPTION: „Mit der 5G-Technologie eröffnen sich neben Vorteilen für den Mobilfunk auch neue Chancen für Industrieproduktion\,  Gesundheitsversorgung\,  Mobilität und Landwirtschaft.“ (Bundesregierung\,  2021)  INHALT 5G als neueste Mobilfunkgeneration ist in aller Munde. Der neue Mobilfunkstandard verspricht nicht nur deutlich höhere Datenraten\,  sondern ermöglicht innovative Anwendungsgebiete der Digitalisierung. Im Mittelpunkt des ZD.BB 5G-Webinars[..]\nhttps://zd-bb.de/events/5g-mobilfunk-einfaech-erklaert/
URL:https://zd-bb.de/events/5g-mobilfunk-einfaech-erklaert/
END:VEVENT
END:VCALENDAR