BEGIN:VCALENDAR
VERSION:2.0
PRODID:-//eventon.com NONSGML v1.0//EN
BEGIN:VEVENT
UID:69e7387205d28
DTSTAMP:20260421T104226
DTSTART:20231026T150000Z
DTEND:20231026T173000Z
TZID:Europe/Berlin
LOCATION:ZD.BB / Herman Hollerith Zentrum Danziger Straße 6 | 71034 Böblingen
SUMMARY:Businesswochen 2023: Überall Change-Initiativen und Mindset-Beschwörungen - und jetzt auch noch KI!
DESCRIPTION: Warum Musterbrecher experimentieren\,  wenn es um Veränderung\,  Haltung und digitalen Wandel geht. Es ist zum Standardritual geworden\,  die Veränderung von Mindsets anzumahnen und entsprechende Appelle auszusenden. Gefordert wird eine Haltung\,  die auf Wertschätzung\,  Eigenverantwortung\,  Agilität\,  Nachhaltigkeit usw. setzt. Und neuerdings ist auch von einem »digitalen Mindset« die Rede. Spannend ist[..]\nhttps://zd-bb.de/events/businesswochen_2023/
URL:https://zd-bb.de/events/businesswochen_2023/
END:VEVENT
END:VCALENDAR