BEGIN:VCALENDAR
VERSION:2.0
PRODID:-//eventon.com NONSGML v1.0//EN
BEGIN:VEVENT
UID:69e73806d287e
DTSTAMP:20260421T104038
DTSTART:20240724T150000Z
DTEND:20240724T160000Z
TZID:Europe/Berlin
LOCATION:Online 
SUMMARY:CLOUD COMPUTING FÜR EINSTEIGER:INNEN
DESCRIPTION: CLOUD COMPUTING FÜR EINSTEIGER:INNEN – DEINE REISE IN DIE DIGITALE ZUKUNFT! INHALTMit dem Pilotprojekt 5G-PreCise „5G Pilot Region zu Cloud Infrastructure\,  Smart Farming &amp; effizienter Düngung im Landkreis Böblingen“ soll demonstriert werden\,  wie Systeme und Prozesse des Precision Farming in Echtzeit mittels 5G und Edge-Cloud Technologie vernetzt werden. Dadurch soll[..]\nhttps://zd-bb.de/events/cloud-computing-fuer-einsteigerinnen/
URL:https://zd-bb.de/events/cloud-computing-fuer-einsteigerinnen/
END:VEVENT
END:VCALENDAR