BEGIN:VCALENDAR
VERSION:2.0
PRODID:-//eventon.com NONSGML v1.0//EN
BEGIN:VEVENT
UID:69e9dd767189d
DTSTAMP:20260423T105102
DTSTART:20240924T143000Z
DTEND:20240924T153000Z
TZID:Europe/Berlin
LOCATION:Online-Seminar 
SUMMARY:KI in Fertigung und Management
DESCRIPTION: KI kann eine grundlegende Rolle bei der Entscheidungsfindung für neue Geschäftsmodelle spielen und unterstützt Unternehmen bei der Optimierung in verschiedenen Geschäftsbereichen. Prof. Dr. Alexander RossmannProfessor für Digitale Geschäftsmodelle an der Hochschule Reutlingen und Leiter des Herman Hollerith Zentrums\,  Böblingen. INHALT Künstliche Intelligenz (KI)&nbsp;sowie die damit&nbsp;verwandten Technologien&nbsp;lassen sich in unterschiedlichen Unternehmensbereichen[..]\nhttps://zd-bb.de/events/ki-in-fertigung-und-mgmt/
URL:https://zd-bb.de/events/ki-in-fertigung-und-mgmt/
END:VEVENT
END:VCALENDAR