BEGIN:VCALENDAR
VERSION:2.0
PRODID:-//eventon.com NONSGML v1.0//EN
BEGIN:VEVENT
UID:69e50d2d018c8
DTSTAMP:20260419T191317
DTSTART:20240930T073000Z
DTEND:20240930T103000Z
TZID:Europe/Berlin
LOCATION:Workshop im ZD.BB / Herman Hollerith Zentrum\,  Böblingen 
SUMMARY:Entdecke ChatGPT für deinen Job!
DESCRIPTION: Praxis-Workshop vom KI-Lab zum Verstehen und Ausprobieren Durch die strategische Nutzung von KI können kleine Unternehmen ihre Effizienz steigern\,  Kosten reduzieren und neue Wachstumsmöglichkeiten erschließen\,  um im Wettbewerbsumfeld erfolgreich zu sein. Speziell zu ChatGPT (einer der möglichen GenKI-Tools) zeigen wir in diesem Workshop praktische Einsatzmöglichkeiten für kleine und mittlere Unternehmen[..]\nhttps://zd-bb.de/events/entdecke-chatgpt-fuer-deinen-job/
URL:https://zd-bb.de/events/entdecke-chatgpt-fuer-deinen-job/
END:VEVENT
END:VCALENDAR