BEGIN:VCALENDAR
VERSION:2.0
PRODID:-//eventon.com NONSGML v1.0//EN
BEGIN:VEVENT
UID:69e4f40b54f35
DTSTAMP:20260419T172603
DTSTART:20241114T073000Z
DTEND:20241114T113000Z
TZID:Europe/Berlin
LOCATION:ZD.BB / Herman Hollerith Zentrum Danziger Straße 6 | 71034 Böblingen
SUMMARY:Expedition KI
DESCRIPTION: Expedition KI – Intensiver Praxis-Workshop rund um ChatGPT &amp; Co. Wir laden Führungs- und Fachkräfte zu einer faszinierenden Expedition durch den KI-Dschungel ein. In diesem Workshop werden komplexe KI-Kenntnisse in spielerische Abenteuer verwandelt\,  mit dem Ziel\,  die Möglichkeiten von KI nicht nur zu verstehen\,  sondern auch kreativ und effektiv in[..]\nhttps://zd-bb.de/events/expedition-ki/
URL:https://zd-bb.de/events/expedition-ki/
END:VEVENT
END:VCALENDAR