BEGIN:VCALENDAR
VERSION:2.0
PRODID:-//eventon.com NONSGML v1.0//EN
BEGIN:VEVENT
UID:69e9fc3feeb1e
DTSTAMP:20260423T130223
DTSTART:20250430T150000Z
DTEND:20250430T160000Z
TZID:Europe/Berlin
LOCATION:Online-Seminar 
SUMMARY:KI Einsatz in Produktion\,  Marketing u. Vertrieb
DESCRIPTION: KI kann eine grundlegende Rolle bei der Entscheidungsfindung für neue Geschäftsmodelle spielen und unterstützt Unternehmen bei der Optimierung in verschiedenen Geschäftsbereichen. Prof. Dr. Alexander RossmannProfessor für Digitale Geschäftsmodelle an der Hochschule Reutlingen und Leiter des Herman Hollerith Zentrums\,  Böblingen. INHALTKünstliche Intelligenz (KI) sowie die damit verwandten Technologien lassen sich in unterschiedlichen Unternehmensbereichen einsetzen.[..]\nhttps://zd-bb.de/events/ki-in-fertigung-und-management-2/
URL:https://zd-bb.de/events/ki-in-fertigung-und-management-2/
END:VEVENT
END:VCALENDAR