BEGIN:VCALENDAR
VERSION:2.0
PRODID:-//eventon.com NONSGML v1.0//EN
BEGIN:VEVENT
UID:69e73a8d4dc44
DTSTAMP:20260421T105125
DTSTART:20251113T080000Z
DTEND:20251113T130000Z
TZID:Europe/Berlin
LOCATION:Garage229 Haußmannstraße 229 | 70188 Stuttgart
SUMMARY:Q-Guide live: Mensch und Maschine
DESCRIPTION: Die Region Stuttgart steht vor großen Herausforderungen: Der Rückgang der Erwerbsbevölkerung\,  der technologische Wandel und der steigende Fachkräftebedarf verlangen neue Ansätze in Qualifizierung und Innovation. Insbesondere Künstliche Intelligenz (KI) und die Kommunikation zwischen Mensch und Maschine gewinnen an Bedeutung. Die betriebliche Weiterbildung wird damit zum zentralen Zukunftspfad\,  um Beschäftigungsfähigkeit zu[..]\nhttps://zd-bb.de/events/q-guide-live-mensch-und-maschine/
URL:https://zd-bb.de/events/q-guide-live-mensch-und-maschine/
END:VEVENT
END:VCALENDAR