BEGIN:VCALENDAR
VERSION:2.0
PRODID:-//eventon.com NONSGML v1.0//EN
BEGIN:VEVENT
UID:69e4fdceb6d90
DTSTAMP:20260419T180742
DTSTART:20260120T150000Z
DTEND:20260120T163000Z
TZID:Europe/Berlin
LOCATION:Hybrid 
SUMMARY:IBM Quantum Community DACH: Watchparty und Quantum- Einführung
DESCRIPTION: Die hybride Veranstaltungsserie der IBM unter dem Motto &#8220;Let´s Talk Quantum!&#8221; richtet sich an das gesamte Ökosystem im Bereich Quantum Computing in DACH – von potenziellen Anwendern über Partnerunternehmen bis hin zu akademischen Einrichtungen. Kurz: Alle an Quantum Computing Interessierten sind herzlich eingeladen. Besonders interessant dieses Mal auch für KMUs aus der[..]\nhttps://zd-bb.de/events/ibm-quantum-community-dach-watchparty-und-quantum-einfuehrung/
URL:https://zd-bb.de/events/ibm-quantum-community-dach-watchparty-und-quantum-einfuehrung/
END:VEVENT
END:VCALENDAR